{
 "currentVersion": 11.3,
 "serviceDescription": "CaudalMedio",
 "name": "CaudalMedio",
 "description": "",
 "extent": {
  "xmin": 795338.364889,
  "ymin": 1022627.89833,
  "xmax": 939288.364889,
  "ymax": 1130827.89833,
  "spatialReference": {
   "wkid": 21892,
   "latestWkid": 21897
  }
 },
 "initialExtent": {
  "xmin": 795338.364889,
  "ymin": 1022627.89833,
  "xmax": 939288.364889,
  "ymax": 1130827.89833,
  "spatialReference": {
   "wkid": 21892,
   "latestWkid": 21897
  }
 },
 "fullExtent": {
  "xmin": 795338.364889,
  "ymin": 1022627.89833,
  "xmax": 939288.364889,
  "ymax": 1130827.89833,
  "spatialReference": {
   "wkid": 21892,
   "latestWkid": 21897
  }
 },
 "sortableFields": "",
 "bandCount": 1,
 "pixelType": "F32",
 "minValues": [
  0
 ],
 "maxValues": [
  120616.96875
 ],
 "meanValues": [
  72.492126497201
 ],
 "stdvValues": [
  1607.5269589914
 ],
 "hasMultidimensions": false,
 "pixelSizeX": 50,
 "pixelSizeY": 50,
 "meanPixelSize": 50,
 "datasetFormat": "IMAGINE Image",
 "uncompressedSize": 24920624,
 "blockWidth": 64,
 "blockHeight": 64,
 "compressionType": "None",
 "bandNames": [
  "Layer_1"
 ],
 "allowCopy": true,
 "allowAnalysis": true,
 "itemAccess": false,
 "inspectionCapabilities": "",
 "noDataValue": -3.4028230607370965E38,
 "noDataValues": [
  -3.4028230607370965E38
 ],
 "minPixelSize": 0,
 "maxPixelSize": 0,
 "copyrightText": "",
 "serviceDataType": "esriImageServiceDataTypeGeneric",
 "serviceSourceType": "esriImageServiceSourceTypeDataset",
 "objectIdField": "",
 "fields": [],
 "capabilities": "Image,Metadata,Mensuration",
 "defaultMosaicMethod": "Center",
 "allowedMosaicMethods": "",
 "sortField": "",
 "sortValue": null,
 "sortAscending": true,
 "mosaicOperator": "First",
 "defaultCompressionQuality": 75,
 "defaultResamplingMethod": "Bilinear",
 "maxImageHeight": 4100,
 "maxImageWidth": 15000,
 "allowRasterFunction": true,
 "rasterFunctionInfos": [
  {
   "name": "None",
   "description": "",
   "help": ""
  }
 ],
 "rasterTypeInfos": [
  {
   "name": "Raster Dataset",
   "description": "Compatible con todos los datasets de rĂ¡steres de ArcGIS",
   "help": ""
  }
 ],
 "mensurationCapabilities": "Basic",
 "hasHistograms": true,
 "hasColormap": false,
 "hasRasterAttributeTable": false,
 "minScale": 0,
 "maxScale": 0,
 "exportTilesAllowed": false,
 "supportsStatistics": false,
 "supportsAdvancedQueries": false,
 "editFieldsInfo": null,
 "ownershipBasedAccessControlForRasters": null,
 "allowComputeTiePoints": false,
 "useStandardizedQueries": true,
 "advancedQueryCapabilities": {
  "useStandardizedQueries": true,
  "supportsStatistics": false,
  "supportsOrderBy": false,
  "supportsDistinct": false,
  "supportsPagination": false
 },
 "spatialReference": {
  "wkid": 21892,
  "latestWkid": 21897
 }
}
